BEGIN:VCALENDAR
VERSION:2.0
PRODID:-//Muz-IC - ECPv6.15.20//NONSGML v1.0//EN
CALSCALE:GREGORIAN
METHOD:PUBLISH
X-WR-CALNAME:Muz-IC
X-ORIGINAL-URL:https://muz-ic.cz
X-WR-CALDESC:Akce na Muz-IC
REFRESH-INTERVAL;VALUE=DURATION:PT1H
X-Robots-Tag:noindex
X-PUBLISHED-TTL:PT1H
BEGIN:VTIMEZONE
TZID:Europe/Prague
BEGIN:DAYLIGHT
TZOFFSETFROM:+0100
TZOFFSETTO:+0200
TZNAME:CEST
DTSTART:20250330T010000
END:DAYLIGHT
BEGIN:STANDARD
TZOFFSETFROM:+0200
TZOFFSETTO:+0100
TZNAME:CET
DTSTART:20251026T010000
END:STANDARD
BEGIN:DAYLIGHT
TZOFFSETFROM:+0100
TZOFFSETTO:+0200
TZNAME:CEST
DTSTART:20260329T010000
END:DAYLIGHT
BEGIN:STANDARD
TZOFFSETFROM:+0200
TZOFFSETTO:+0100
TZNAME:CET
DTSTART:20261025T010000
END:STANDARD
BEGIN:DAYLIGHT
TZOFFSETFROM:+0100
TZOFFSETTO:+0200
TZNAME:CEST
DTSTART:20270328T010000
END:DAYLIGHT
BEGIN:STANDARD
TZOFFSETFROM:+0200
TZOFFSETTO:+0100
TZNAME:CET
DTSTART:20271031T010000
END:STANDARD
END:VTIMEZONE
BEGIN:VEVENT
DTSTART;TZID=Europe/Prague:20260110T160500
DTEND;TZID=Europe/Prague:20260110T182300
DTSTAMP:20260425T212854
CREATED:20251222T100552Z
LAST-MODIFIED:20251222T100810Z
UID:3871-1768061100-1768069380@muz-ic.cz
SUMMARY:Zootropolis: Město zvířat 2
DESCRIPTION:Srdečně vás zveme na promítání animovaného filmu pro děti Zootropolis: Město zvířat 2 \n Sobota 10.01. 2026 16:05 (108 min.) Kino Bystřice Vstupné: děti 130 Kč\, 150 Kč Film (Animovaný\, Pro děti\, Rodinné\, Dobrodružný)\,  \n  \nPřijďte si užít skvělý filmový večer!
URL:https://muz-ic.cz/udalost/zootropolis-mesto-zvirat-2-3/
CATEGORIES:FILM
ATTACH;FMTTYPE=image/jpeg:https://muz-ic.cz/wp-content/uploads/2025/12/7381D2R.jpg
END:VEVENT
END:VCALENDAR