BEGIN:VCALENDAR
VERSION:2.0
PRODID:-//Muz-IC - ECPv6.15.20//NONSGML v1.0//EN
CALSCALE:GREGORIAN
METHOD:PUBLISH
X-WR-CALNAME:Muz-IC
X-ORIGINAL-URL:https://muz-ic.cz
X-WR-CALDESC:Akce na Muz-IC
REFRESH-INTERVAL;VALUE=DURATION:PT1H
X-Robots-Tag:noindex
X-PUBLISHED-TTL:PT1H
BEGIN:VTIMEZONE
TZID:Europe/Prague
BEGIN:DAYLIGHT
TZOFFSETFROM:+0100
TZOFFSETTO:+0200
TZNAME:CEST
DTSTART:20240331T010000
END:DAYLIGHT
BEGIN:STANDARD
TZOFFSETFROM:+0200
TZOFFSETTO:+0100
TZNAME:CET
DTSTART:20241027T010000
END:STANDARD
BEGIN:DAYLIGHT
TZOFFSETFROM:+0100
TZOFFSETTO:+0200
TZNAME:CEST
DTSTART:20250330T010000
END:DAYLIGHT
BEGIN:STANDARD
TZOFFSETFROM:+0200
TZOFFSETTO:+0100
TZNAME:CET
DTSTART:20251026T010000
END:STANDARD
BEGIN:DAYLIGHT
TZOFFSETFROM:+0100
TZOFFSETTO:+0200
TZNAME:CEST
DTSTART:20260329T010000
END:DAYLIGHT
BEGIN:STANDARD
TZOFFSETFROM:+0200
TZOFFSETTO:+0100
TZNAME:CET
DTSTART:20261025T010000
END:STANDARD
END:VTIMEZONE
BEGIN:VEVENT
DTSTART;TZID=Europe/Prague:20251024T170500
DTEND;TZID=Europe/Prague:20251024T190000
DTSTAMP:20260425T171922
CREATED:20251002T090012Z
LAST-MODIFIED:20251002T090012Z
UID:3389-1761325500-1761332400@muz-ic.cz
SUMMARY:Týden turistických informačních center
DESCRIPTION:V rámci Týdne turistických informačních center vás zveme na komentovanou prohlídku dřevěného kostela Povýšení sv. Kříže v Bystřici. \n📅 24. 10. 2025 v 17:05📍 Bystřice \nAkce se koná u příležitosti Světového dne pro rozvoj informací a pořádá ji Asociace turistických informačních center ČR ve spolupráci s TIC Bystřice.
URL:https://muz-ic.cz/udalost/tyden-turistickych-informacnich-center/
CATEGORIES:OSTATNÍ - MUZIC
ATTACH;FMTTYPE=image/webp:https://muz-ic.cz/wp-content/uploads/2025/10/PROHLIDKA_kostela_.webp
ORGANIZER;CN="MUZ-IC":MAILTO:ic@bystrice.cz
END:VEVENT
END:VCALENDAR