BEGIN:VCALENDAR
VERSION:2.0
PRODID:-//Muz-IC - ECPv6.15.20//NONSGML v1.0//EN
CALSCALE:GREGORIAN
METHOD:PUBLISH
X-WR-CALNAME:Muz-IC
X-ORIGINAL-URL:https://muz-ic.cz
X-WR-CALDESC:Akce na Muz-IC
REFRESH-INTERVAL;VALUE=DURATION:PT1H
X-Robots-Tag:noindex
X-PUBLISHED-TTL:PT1H
BEGIN:VTIMEZONE
TZID:Europe/Prague
BEGIN:DAYLIGHT
TZOFFSETFROM:+0100
TZOFFSETTO:+0200
TZNAME:CEST
DTSTART:20250330T010000
END:DAYLIGHT
BEGIN:STANDARD
TZOFFSETFROM:+0200
TZOFFSETTO:+0100
TZNAME:CET
DTSTART:20251026T010000
END:STANDARD
BEGIN:DAYLIGHT
TZOFFSETFROM:+0100
TZOFFSETTO:+0200
TZNAME:CEST
DTSTART:20260329T010000
END:DAYLIGHT
BEGIN:STANDARD
TZOFFSETFROM:+0200
TZOFFSETTO:+0100
TZNAME:CET
DTSTART:20261025T010000
END:STANDARD
BEGIN:DAYLIGHT
TZOFFSETFROM:+0100
TZOFFSETTO:+0200
TZNAME:CEST
DTSTART:20270328T010000
END:DAYLIGHT
BEGIN:STANDARD
TZOFFSETFROM:+0200
TZOFFSETTO:+0100
TZNAME:CET
DTSTART:20271031T010000
END:STANDARD
END:VTIMEZONE
BEGIN:VEVENT
DTSTART;TZID=Europe/Prague:20260424T180500
DTEND;TZID=Europe/Prague:20260424T200000
DTSTAMP:20260425T160526
CREATED:20260403T173717Z
LAST-MODIFIED:20260422T101942Z
UID:4618-1777053900-1777060800@muz-ic.cz
SUMMARY:Troje ročních období - koncert
DESCRIPTION:Zveme Vás na koncert z cyklu Troje ročních období. Hudebně taneční projekt AZAHAR představí kytarista Petr Vít a flamenko tanečnice Verónica Roa. \nKytara Petra Víta plynule proplouvá na vlnách hudby mezi Iberským poloostrovem a Jižní Amerikou. \nVerónica Roa propojuje ve svém flamenkovém tanci vášeň i eleganci s emocemi\, v nichž se snoubí melancholie s jižanskou radostí ze života. \n Pátek 24. 04. 2026 18:05  Kinosál\, Bystřice 276 Zdarma – rezervace místenek ZDE \n  \n 
URL:https://muz-ic.cz/udalost/troje-rocnich-obdobi-koncert/
CATEGORIES:OSTATNÍ - MUZIC
ATTACH;FMTTYPE=image/jpeg:https://muz-ic.cz/wp-content/uploads/2026/04/TROJE-ROCNICH-OBDOBI-1.jpg
END:VEVENT
END:VCALENDAR