BEGIN:VCALENDAR
VERSION:2.0
PRODID:-//Muz-IC - ECPv6.15.20//NONSGML v1.0//EN
CALSCALE:GREGORIAN
METHOD:PUBLISH
X-WR-CALNAME:Muz-IC
X-ORIGINAL-URL:https://muz-ic.cz
X-WR-CALDESC:Akce na Muz-IC
REFRESH-INTERVAL;VALUE=DURATION:PT1H
X-Robots-Tag:noindex
X-PUBLISHED-TTL:PT1H
BEGIN:VTIMEZONE
TZID:Europe/Prague
BEGIN:DAYLIGHT
TZOFFSETFROM:+0100
TZOFFSETTO:+0200
TZNAME:CEST
DTSTART:20240331T010000
END:DAYLIGHT
BEGIN:STANDARD
TZOFFSETFROM:+0200
TZOFFSETTO:+0100
TZNAME:CET
DTSTART:20241027T010000
END:STANDARD
BEGIN:DAYLIGHT
TZOFFSETFROM:+0100
TZOFFSETTO:+0200
TZNAME:CEST
DTSTART:20250330T010000
END:DAYLIGHT
BEGIN:STANDARD
TZOFFSETFROM:+0200
TZOFFSETTO:+0100
TZNAME:CET
DTSTART:20251026T010000
END:STANDARD
BEGIN:DAYLIGHT
TZOFFSETFROM:+0100
TZOFFSETTO:+0200
TZNAME:CEST
DTSTART:20260329T010000
END:DAYLIGHT
BEGIN:STANDARD
TZOFFSETFROM:+0200
TZOFFSETTO:+0100
TZNAME:CET
DTSTART:20261025T010000
END:STANDARD
END:VTIMEZONE
BEGIN:VEVENT
DTSTART;TZID=Europe/Prague:20250925T170500
DTEND;TZID=Europe/Prague:20250925T200000
DTSTAMP:20260425T184619
CREATED:20250912T105018Z
LAST-MODIFIED:20250924T141810Z
UID:3362-1758819900-1758830400@muz-ic.cz
SUMMARY:POZOR ZMĚNA! Terapie přírodou – podzimní vycházka
DESCRIPTION:POZOR ZMĚNA!!!\nZítra očekáváme deštivé počasí\, tudíž se přesouváme do vnitřních prostor Muz-ic Bystřice-Bystrzyca.\nK shlédnutí budou mj. unikátní fotografie z Bystřice. Promítaní bude doprovázeno vyprávěním etnoložky Ireny Ciché.\nKromě virtuální vycházky v teple a pohodlí naší budovy se můžete těšit také na teplý bylinkový čaj!\nSrdečně vás zveme na setkání 25. 9. 2025 od 17:05 v MUZ-IC Bystřice (Bystrzyca 276).Společně budeme poznávat centrum Bystřice očima pana fotografa Kalety – „aneb cestování časem“. \nPřijďte si užít příjemnou procházku a objevování foto-stop Karola Kalety.👉 Ciekawie będzie!
URL:https://muz-ic.cz/udalost/terapie-prirodou-podzimni-vychazka/
LOCATION:Bystřice\, MUZ-IC\, Bystřice 276\, Bystřice\, Moravskoslezský\, 73995\, Czech Republic
CATEGORIES:OSTATNÍ - MUZIC
ATTACH;FMTTYPE=image/jpeg:https://muz-ic.cz/wp-content/uploads/2025/09/TERAPIE-PRIRODOU-2.jpg
ORGANIZER;CN="MUZ-IC":MAILTO:ic@bystrice.cz
END:VEVENT
END:VCALENDAR