BEGIN:VCALENDAR
VERSION:2.0
PRODID:-//Muz-IC - ECPv6.15.20//NONSGML v1.0//EN
CALSCALE:GREGORIAN
METHOD:PUBLISH
X-WR-CALNAME:Muz-IC
X-ORIGINAL-URL:https://muz-ic.cz
X-WR-CALDESC:Akce na Muz-IC
REFRESH-INTERVAL;VALUE=DURATION:PT1H
X-Robots-Tag:noindex
X-PUBLISHED-TTL:PT1H
BEGIN:VTIMEZONE
TZID:Europe/Prague
BEGIN:DAYLIGHT
TZOFFSETFROM:+0100
TZOFFSETTO:+0200
TZNAME:CEST
DTSTART:20250330T010000
END:DAYLIGHT
BEGIN:STANDARD
TZOFFSETFROM:+0200
TZOFFSETTO:+0100
TZNAME:CET
DTSTART:20251026T010000
END:STANDARD
BEGIN:DAYLIGHT
TZOFFSETFROM:+0100
TZOFFSETTO:+0200
TZNAME:CEST
DTSTART:20260329T010000
END:DAYLIGHT
BEGIN:STANDARD
TZOFFSETFROM:+0200
TZOFFSETTO:+0100
TZNAME:CET
DTSTART:20261025T010000
END:STANDARD
BEGIN:DAYLIGHT
TZOFFSETFROM:+0100
TZOFFSETTO:+0200
TZNAME:CEST
DTSTART:20270328T010000
END:DAYLIGHT
BEGIN:STANDARD
TZOFFSETFROM:+0200
TZOFFSETTO:+0100
TZNAME:CET
DTSTART:20271031T010000
END:STANDARD
END:VTIMEZONE
BEGIN:VEVENT
DTSTART;TZID=Europe/Prague:20260417T193500
DTEND;TZID=Europe/Prague:20260417T213000
DTSTAMP:20260425T171905
CREATED:20260326T130102Z
LAST-MODIFIED:20260417T094908Z
UID:4467-1776454500-1776461400@muz-ic.cz
SUMMARY:Sorry\, Baby - FILMÁČBYS3CE
DESCRIPTION:Zveme Vás na film Sorry\, Baby. \nAgnes se během studia na vysoké stalo něco hrozného\, ale život jde dál. Aspoň pro svět kolem. Naštěstí je tu drzá kamarádka Lydia\, která se nikdy neváhá Agnes zastat\, neohrabaný\, ale citlivý soused Gavin a jedno nic netušící kotě. Vtipný a upřímný film o tom\, že opravdové přátelství pomáhá hojit i ty nejhorší rány. \n Pátek 17. 04. 2026 19:35 (103 min.) Kino Bystřice Vstupné: 140 Kč Film (drama\, komedie)\, do 12 let nepřístupný\, české titulky \n  \n 
URL:https://muz-ic.cz/udalost/sorry-baby-filmacbys3ce/
CATEGORIES:FILM
ATTACH;FMTTYPE=image/jpeg:https://muz-ic.cz/wp-content/uploads/2026/03/Sorry-Baby.jpg
END:VEVENT
END:VCALENDAR