BEGIN:VCALENDAR
VERSION:2.0
PRODID:-//Muz-IC - ECPv6.15.20//NONSGML v1.0//EN
CALSCALE:GREGORIAN
METHOD:PUBLISH
X-WR-CALNAME:Muz-IC
X-ORIGINAL-URL:https://muz-ic.cz
X-WR-CALDESC:Akce na Muz-IC
REFRESH-INTERVAL;VALUE=DURATION:PT1H
X-Robots-Tag:noindex
X-PUBLISHED-TTL:PT1H
BEGIN:VTIMEZONE
TZID:Europe/Prague
BEGIN:DAYLIGHT
TZOFFSETFROM:+0100
TZOFFSETTO:+0200
TZNAME:CEST
DTSTART:20250330T010000
END:DAYLIGHT
BEGIN:STANDARD
TZOFFSETFROM:+0200
TZOFFSETTO:+0100
TZNAME:CET
DTSTART:20251026T010000
END:STANDARD
BEGIN:DAYLIGHT
TZOFFSETFROM:+0100
TZOFFSETTO:+0200
TZNAME:CEST
DTSTART:20260329T010000
END:DAYLIGHT
BEGIN:STANDARD
TZOFFSETFROM:+0200
TZOFFSETTO:+0100
TZNAME:CET
DTSTART:20261025T010000
END:STANDARD
BEGIN:DAYLIGHT
TZOFFSETFROM:+0100
TZOFFSETTO:+0200
TZNAME:CEST
DTSTART:20270328T010000
END:DAYLIGHT
BEGIN:STANDARD
TZOFFSETFROM:+0200
TZOFFSETTO:+0100
TZNAME:CET
DTSTART:20271031T010000
END:STANDARD
END:VTIMEZONE
BEGIN:VEVENT
DTSTART;TZID=Europe/Prague:20260418T190500
DTEND;TZID=Europe/Prague:20260418T213000
DTSTAMP:20260425T171836
CREATED:20260326T130758Z
LAST-MODIFIED:20260326T130758Z
UID:4471-1776539100-1776547800@muz-ic.cz
SUMMARY:Říkají mi Lars
DESCRIPTION:Zveme vás na film Říkají mi Lars \n Sobota 18. 04. 2026 19:05 (114 min.) Kino Bystřice Vstupné: 140 Kč Film (kriminální\, thriller)\, do 15 let nepřístupný \n  \n 
URL:https://muz-ic.cz/udalost/rikaji-mi-lars/
CATEGORIES:FILM
ATTACH;FMTTYPE=image/jpeg:https://muz-ic.cz/wp-content/uploads/2026/03/Rikaji-mi-Lars.jpg
END:VEVENT
END:VCALENDAR