BEGIN:VCALENDAR
VERSION:2.0
PRODID:-//Muz-IC - ECPv6.15.20//NONSGML v1.0//EN
CALSCALE:GREGORIAN
METHOD:PUBLISH
X-WR-CALNAME:Muz-IC
X-ORIGINAL-URL:https://muz-ic.cz
X-WR-CALDESC:Akce na Muz-IC
REFRESH-INTERVAL;VALUE=DURATION:PT1H
X-Robots-Tag:noindex
X-PUBLISHED-TTL:PT1H
BEGIN:VTIMEZONE
TZID:Europe/Prague
BEGIN:DAYLIGHT
TZOFFSETFROM:+0100
TZOFFSETTO:+0200
TZNAME:CEST
DTSTART:20240331T010000
END:DAYLIGHT
BEGIN:STANDARD
TZOFFSETFROM:+0200
TZOFFSETTO:+0100
TZNAME:CET
DTSTART:20241027T010000
END:STANDARD
BEGIN:DAYLIGHT
TZOFFSETFROM:+0100
TZOFFSETTO:+0200
TZNAME:CEST
DTSTART:20250330T010000
END:DAYLIGHT
BEGIN:STANDARD
TZOFFSETFROM:+0200
TZOFFSETTO:+0100
TZNAME:CET
DTSTART:20251026T010000
END:STANDARD
BEGIN:DAYLIGHT
TZOFFSETFROM:+0100
TZOFFSETTO:+0200
TZNAME:CEST
DTSTART:20260329T010000
END:DAYLIGHT
BEGIN:STANDARD
TZOFFSETFROM:+0200
TZOFFSETTO:+0100
TZNAME:CET
DTSTART:20261025T010000
END:STANDARD
END:VTIMEZONE
BEGIN:VEVENT
DTSTART;TZID=Europe/Prague:20250116T150500
DTEND;TZID=Europe/Prague:20250116T170000
DTSTAMP:20260425T184301
CREATED:20250113T073011Z
LAST-MODIFIED:20250113T073011Z
UID:2261-1737039900-1737046800@muz-ic.cz
SUMMARY:POBABY V DPS BYSTŘICE
DESCRIPTION:Zvama vás na setkaní u louskání fazolí a bobů v jídelně DPS č.p. 1317. \nSrdečně zveme/Serdecznie zapraszamy.
URL:https://muz-ic.cz/udalost/pobaby-v-dps-bystrice/
LOCATION:DPS Senior\, Bystřice 1317\, Bystřice\, 73995
CATEGORIES:OSTATNÍ - MUZIC
ATTACH;FMTTYPE=image/png:https://muz-ic.cz/wp-content/uploads/2025/01/POBABY.png
ORGANIZER;CN="MUZ-IC":MAILTO:ic@bystrice.cz
END:VEVENT
END:VCALENDAR