BEGIN:VCALENDAR
VERSION:2.0
PRODID:-//Muz-IC - ECPv6.15.20//NONSGML v1.0//EN
CALSCALE:GREGORIAN
METHOD:PUBLISH
X-WR-CALNAME:Muz-IC
X-ORIGINAL-URL:https://muz-ic.cz
X-WR-CALDESC:Akce na Muz-IC
REFRESH-INTERVAL;VALUE=DURATION:PT1H
X-Robots-Tag:noindex
X-PUBLISHED-TTL:PT1H
BEGIN:VTIMEZONE
TZID:Europe/Prague
BEGIN:DAYLIGHT
TZOFFSETFROM:+0100
TZOFFSETTO:+0200
TZNAME:CEST
DTSTART:20250330T010000
END:DAYLIGHT
BEGIN:STANDARD
TZOFFSETFROM:+0200
TZOFFSETTO:+0100
TZNAME:CET
DTSTART:20251026T010000
END:STANDARD
BEGIN:DAYLIGHT
TZOFFSETFROM:+0100
TZOFFSETTO:+0200
TZNAME:CEST
DTSTART:20260329T010000
END:DAYLIGHT
BEGIN:STANDARD
TZOFFSETFROM:+0200
TZOFFSETTO:+0100
TZNAME:CET
DTSTART:20261025T010000
END:STANDARD
BEGIN:DAYLIGHT
TZOFFSETFROM:+0100
TZOFFSETTO:+0200
TZNAME:CEST
DTSTART:20270328T010000
END:DAYLIGHT
BEGIN:STANDARD
TZOFFSETFROM:+0200
TZOFFSETTO:+0100
TZNAME:CET
DTSTART:20271031T010000
END:STANDARD
END:VTIMEZONE
BEGIN:VEVENT
DTSTART;TZID=Europe/Prague:20260523T190500
DTEND;TZID=Europe/Prague:20260523T210000
DTSTAMP:20260425T144736
CREATED:20260424T112630Z
LAST-MODIFIED:20260424T112930Z
UID:4747-1779563100-1779570000@muz-ic.cz
SUMMARY:Mandalorian a Grogu
DESCRIPTION:Zlé Impérium padlo a jeho válečníci zůstávají roztroušeni po celé galaxii. Nově vzniklá Republika se snaží chránit vše\, za co povstalci bojovali\, a proto požádala o pomoc legendárního mandaloriánského lovce odměn Dina Djarina (Pedro Pascal) a jeho mladého učedníka Groga. \n Sobota 23.05. 2026 19:05 (132 min.) Kino Bystřice Vstupné: 160 Kč Sci-fi\, akční\, česká verze\, přístupné bez omezení \n  \n 
URL:https://muz-ic.cz/udalost/mandalorian-a-grogu/
CATEGORIES:FILM
ATTACH;FMTTYPE=image/jpeg:https://muz-ic.cz/wp-content/uploads/2026/04/mandalor.jpg
END:VEVENT
END:VCALENDAR