BEGIN:VCALENDAR
VERSION:2.0
PRODID:-//Muz-IC - ECPv6.15.20//NONSGML v1.0//EN
CALSCALE:GREGORIAN
METHOD:PUBLISH
X-WR-CALNAME:Muz-IC
X-ORIGINAL-URL:https://muz-ic.cz
X-WR-CALDESC:Akce na Muz-IC
REFRESH-INTERVAL;VALUE=DURATION:PT1H
X-Robots-Tag:noindex
X-PUBLISHED-TTL:PT1H
BEGIN:VTIMEZONE
TZID:Europe/Prague
BEGIN:DAYLIGHT
TZOFFSETFROM:+0100
TZOFFSETTO:+0200
TZNAME:CEST
DTSTART:20240331T010000
END:DAYLIGHT
BEGIN:STANDARD
TZOFFSETFROM:+0200
TZOFFSETTO:+0100
TZNAME:CET
DTSTART:20241027T010000
END:STANDARD
BEGIN:DAYLIGHT
TZOFFSETFROM:+0100
TZOFFSETTO:+0200
TZNAME:CEST
DTSTART:20250330T010000
END:DAYLIGHT
BEGIN:STANDARD
TZOFFSETFROM:+0200
TZOFFSETTO:+0100
TZNAME:CET
DTSTART:20251026T010000
END:STANDARD
BEGIN:DAYLIGHT
TZOFFSETFROM:+0100
TZOFFSETTO:+0200
TZNAME:CEST
DTSTART:20260329T010000
END:DAYLIGHT
BEGIN:STANDARD
TZOFFSETFROM:+0200
TZOFFSETTO:+0100
TZNAME:CET
DTSTART:20261025T010000
END:STANDARD
END:VTIMEZONE
BEGIN:VEVENT
DTSTART;TZID=Europe/Prague:20250801T210500
DTEND;TZID=Europe/Prague:20250801T230000
DTSTAMP:20260425T200700
CREATED:20250721T115205Z
LAST-MODIFIED:20250721T115205Z
UID:3320-1754082300-1754089200@muz-ic.cz
SUMMARY:LETNÍ KINO: Bridget Jonesová: Láskou šílená
DESCRIPTION:Přijďte si užít kouzelný letní večer pod širým nebem! \nFilm: Bridget Jonesová: Láskou šílená\nKdy: pátek 1. 8. 2025\nČas: 21:05\nMísto: areál u bazénu \nObčerstvení a lehátka zajištěna.
URL:https://muz-ic.cz/udalost/letni-kino-bridget-jonesova-laskou-silena/
LOCATION:Areál před bazénem\, Bystřice 848\, Bystřice\, 73995
CATEGORIES:FILM
ATTACH;FMTTYPE=image/jpeg:https://muz-ic.cz/wp-content/uploads/2025/07/letni_kino_1_8_2025.jpg
ORGANIZER;CN="MUZ-IC":MAILTO:ic@bystrice.cz
END:VEVENT
END:VCALENDAR