BEGIN:VCALENDAR
VERSION:2.0
PRODID:-//Muz-IC - ECPv6.15.20//NONSGML v1.0//EN
CALSCALE:GREGORIAN
METHOD:PUBLISH
X-WR-CALNAME:Muz-IC
X-ORIGINAL-URL:https://muz-ic.cz
X-WR-CALDESC:Akce na Muz-IC
REFRESH-INTERVAL;VALUE=DURATION:PT1H
X-Robots-Tag:noindex
X-PUBLISHED-TTL:PT1H
BEGIN:VTIMEZONE
TZID:Europe/Prague
BEGIN:DAYLIGHT
TZOFFSETFROM:+0100
TZOFFSETTO:+0200
TZNAME:CEST
DTSTART:20250330T010000
END:DAYLIGHT
BEGIN:STANDARD
TZOFFSETFROM:+0200
TZOFFSETTO:+0100
TZNAME:CET
DTSTART:20251026T010000
END:STANDARD
BEGIN:DAYLIGHT
TZOFFSETFROM:+0100
TZOFFSETTO:+0200
TZNAME:CEST
DTSTART:20260329T010000
END:DAYLIGHT
BEGIN:STANDARD
TZOFFSETFROM:+0200
TZOFFSETTO:+0100
TZNAME:CET
DTSTART:20261025T010000
END:STANDARD
BEGIN:DAYLIGHT
TZOFFSETFROM:+0100
TZOFFSETTO:+0200
TZNAME:CEST
DTSTART:20270328T010000
END:DAYLIGHT
BEGIN:STANDARD
TZOFFSETFROM:+0200
TZOFFSETTO:+0100
TZNAME:CET
DTSTART:20271031T010000
END:STANDARD
END:VTIMEZONE
BEGIN:VEVENT
DTSTART;TZID=Europe/Prague:20260506T190000
DTEND;TZID=Europe/Prague:20260506T210000
DTSTAMP:20260425T144849
CREATED:20260424T093458Z
LAST-MODIFIED:20260424T100840Z
UID:4725-1778094000-1778101200@muz-ic.cz
SUMMARY:Co nám zbylo z lásky - TADY VARY
DESCRIPTION:Daleko\, předaleko\, v malém islandském městečku\, si pětičlenná rodina s ovčáckým psem užívá pozdní večeři. Vypadají šťastně a spokojeně\, ukrytí před nebezpečím okolního světa. Matka\, talentovaná umělkyně\, chystá své nejrozsáhlejší dílo. Otec vydělává na rybářské lodi. Dospívající děti mají to štěstí\, že mohou žít v dokonalém souladu s přírodou. \n Středa 06. 05. 2026 19:00 (109 min.) Kino Bystřice Vstupné: 160 Kč Drama\, české titulky\, nevhodné do 12 let \n  \n 
URL:https://muz-ic.cz/udalost/co-nam-zbylo-z-lasky-tady-vary/
CATEGORIES:FILM
ATTACH;FMTTYPE=image/jpeg:https://muz-ic.cz/wp-content/uploads/2026/04/co-nam-zbylo.jpg
END:VEVENT
END:VCALENDAR