BEGIN:VCALENDAR
VERSION:2.0
PRODID:-//Muz-IC - ECPv6.15.20//NONSGML v1.0//EN
CALSCALE:GREGORIAN
METHOD:PUBLISH
X-WR-CALNAME:Muz-IC
X-ORIGINAL-URL:https://muz-ic.cz
X-WR-CALDESC:Akce na Muz-IC
REFRESH-INTERVAL;VALUE=DURATION:PT1H
X-Robots-Tag:noindex
X-PUBLISHED-TTL:PT1H
BEGIN:VTIMEZONE
TZID:Europe/Prague
BEGIN:DAYLIGHT
TZOFFSETFROM:+0100
TZOFFSETTO:+0200
TZNAME:CEST
DTSTART:20250330T010000
END:DAYLIGHT
BEGIN:STANDARD
TZOFFSETFROM:+0200
TZOFFSETTO:+0100
TZNAME:CET
DTSTART:20251026T010000
END:STANDARD
BEGIN:DAYLIGHT
TZOFFSETFROM:+0100
TZOFFSETTO:+0200
TZNAME:CEST
DTSTART:20260329T010000
END:DAYLIGHT
BEGIN:STANDARD
TZOFFSETFROM:+0200
TZOFFSETTO:+0100
TZNAME:CET
DTSTART:20261025T010000
END:STANDARD
BEGIN:DAYLIGHT
TZOFFSETFROM:+0100
TZOFFSETTO:+0200
TZNAME:CEST
DTSTART:20270328T010000
END:DAYLIGHT
BEGIN:STANDARD
TZOFFSETFROM:+0200
TZOFFSETTO:+0100
TZNAME:CET
DTSTART:20271031T010000
END:STANDARD
END:VTIMEZONE
BEGIN:VEVENT
DTSTART;TZID=Europe/Prague:20260425T160500
DTEND;TZID=Europe/Prague:20260425T180000
DTSTAMP:20260425T145024
CREATED:20260326T131057Z
LAST-MODIFIED:20260326T131057Z
UID:4473-1777133100-1777140000@muz-ic.cz
SUMMARY:Hurvínkova cesta do Tramtárie
DESCRIPTION:Zveme vás na film Hurvínkova cesta do Tramtárie \n Sobota 25. 04. 2026 16:05 (54 min.) Kino Bystřice Vstupné: 150 Kč Film (loutkový) \n  \n 
URL:https://muz-ic.cz/udalost/hurvinkova-cesta-do-tramtarie/
CATEGORIES:FILM
ATTACH;FMTTYPE=image/jpeg:https://muz-ic.cz/wp-content/uploads/2026/03/Hurvinkova-cesta.jpg
END:VEVENT
BEGIN:VEVENT
DTSTART;TZID=Europe/Prague:20260425T190500
DTEND;TZID=Europe/Prague:20260425T213000
DTSTAMP:20260425T145024
CREATED:20260326T131412Z
LAST-MODIFIED:20260326T131433Z
UID:4475-1777143900-1777152600@muz-ic.cz
SUMMARY:Neboj\, dýchej\, čaruj
DESCRIPTION:Zveme vás na film Neboj\, dýchej\, čaruj \n Sobota 25. 04. 2026 19:05 (87 min.) Kino Bystřice Vstupné: 150 Kč Film (hudební\, dokument) \n  \n 
URL:https://muz-ic.cz/udalost/neboj-dychej-caruj/
CATEGORIES:FILM
ATTACH;FMTTYPE=image/jpeg:https://muz-ic.cz/wp-content/uploads/2026/03/Neboj-dychej.jpg
END:VEVENT
BEGIN:VEVENT
DTSTART;TZID=Europe/Prague:20260430T170500
DTEND;TZID=Europe/Prague:20260430T200000
DTSTAMP:20260425T145024
CREATED:20260422T101729Z
LAST-MODIFIED:20260422T101806Z
UID:4705-1777568700-1777579200@muz-ic.cz
SUMMARY:Stavění máje
DESCRIPTION:Zveme Vás na společné stavění máje s hasiči u DPS – tradiční oslavu jara s živou hudbou a občerstvením od hasičů. \n Čtvrtek 30. 04. 2026 17:05  Areál u DPS Bystřice  Zdarma \n  \n 
URL:https://muz-ic.cz/udalost/staveni-maje/
CATEGORIES:OSTATNÍ - MUZIC
ATTACH;FMTTYPE=image/jpeg:https://muz-ic.cz/wp-content/uploads/2026/04/Staveni-maje.jpg
END:VEVENT
BEGIN:VEVENT
DTSTART;TZID=Europe/Prague:20260502T160500
DTEND;TZID=Europe/Prague:20260502T180000
DTSTAMP:20260425T145024
CREATED:20260424T090815Z
LAST-MODIFIED:20260424T091218Z
UID:4710-1777737900-1777744800@muz-ic.cz
SUMMARY:Rally: Od Paříže k pyramidám
DESCRIPTION:Tři nečekaní přátelé se pokoušejí vyhrát legendární rally z Paříže k pyramidám. Po cestě se naučí\, že některé věci jsou mnohem cennější než vítězství v závodech – lidé\, kteří vás milují a které milujete vy. \n Sobota 02. 05. 2026 16:05 (82 min.) Kino Bystřice Vstupné: 150 Kč\, děti 120 Kč  Film Animovaný\, rodinný\, dobrodružný. \n  \n 
URL:https://muz-ic.cz/udalost/rally-od-parize-k-pyramidam/
CATEGORIES:FILM
ATTACH;FMTTYPE=image/jpeg:https://muz-ic.cz/wp-content/uploads/2026/04/paris.jpg
END:VEVENT
BEGIN:VEVENT
DTSTART;TZID=Europe/Prague:20260502T190500
DTEND;TZID=Europe/Prague:20260502T210000
DTSTAMP:20260425T145024
CREATED:20260424T092739Z
LAST-MODIFIED:20260424T092843Z
UID:4723-1777748700-1777755600@muz-ic.cz
SUMMARY:Ďábel nosí Pradu 2
DESCRIPTION:Téměř 20 let po svém ikonickém ztvárnění postav Mirandy\, Andy\, Emily a Nigela se Meryl Streep\, Anne Hathaway\, Emily Blunt a Stanley Tucci vrací do módních ulic New Yorku a elegantních kanceláří časopisu Runway v netrpělivě očekávaném pokračování fenoménu z roku 2006\, který zasáhl\, ovlinil a definoval celou generaci. \n Sobota 02. 05. 2026 19:05 (120 min.) Kino Bystřice Vstupné: 160 Kč Drama\, komedie\, česká verze\, bez věkového omezení \n  \n 
URL:https://muz-ic.cz/udalost/dabel-nosi-pradu-2/
CATEGORIES:FILM
ATTACH;FMTTYPE=image/jpeg:https://muz-ic.cz/wp-content/uploads/2026/04/dabel.jpg
END:VEVENT
BEGIN:VEVENT
DTSTART;TZID=Europe/Prague:20260506T190000
DTEND;TZID=Europe/Prague:20260506T210000
DTSTAMP:20260425T145024
CREATED:20260424T093458Z
LAST-MODIFIED:20260424T100840Z
UID:4725-1778094000-1778101200@muz-ic.cz
SUMMARY:Co nám zbylo z lásky - TADY VARY
DESCRIPTION:Daleko\, předaleko\, v malém islandském městečku\, si pětičlenná rodina s ovčáckým psem užívá pozdní večeři. Vypadají šťastně a spokojeně\, ukrytí před nebezpečím okolního světa. Matka\, talentovaná umělkyně\, chystá své nejrozsáhlejší dílo. Otec vydělává na rybářské lodi. Dospívající děti mají to štěstí\, že mohou žít v dokonalém souladu s přírodou. \n Středa 06. 05. 2026 19:00 (109 min.) Kino Bystřice Vstupné: 160 Kč Drama\, české titulky\, nevhodné do 12 let \n  \n 
URL:https://muz-ic.cz/udalost/co-nam-zbylo-z-lasky-tady-vary/
CATEGORIES:FILM
ATTACH;FMTTYPE=image/jpeg:https://muz-ic.cz/wp-content/uploads/2026/04/co-nam-zbylo.jpg
END:VEVENT
BEGIN:VEVENT
DTSTART;TZID=Europe/Prague:20260509T160500
DTEND;TZID=Europe/Prague:20260509T180000
DTSTAMP:20260425T145024
CREATED:20260424T093741Z
LAST-MODIFIED:20260424T095247Z
UID:4727-1778342700-1778349600@muz-ic.cz
SUMMARY:Béé team na stopě
DESCRIPTION:V této vtipné\, novátorské detektivce je George (Hugh Jackman) pastýř\, který každou noc čte svým milovaným ovcím detektivní romány v domnění\, že jim stejně nemohou rozumět. Když však záhadná událost naruší život na farmě\, ovce si uvědomí\, že se samy musí stát detektivy. Při sledování stop a vyšetřování lidských podezřelých dokazují\, že i ovce mohou být brilantními řešiteli zločinů. \n Sobota 09. 05. 2026 16:05 (109 min.) Kino Bystřice Vstupné: 150 Kč\, děti 130 Kč Komedie\, česká verze\, přístupné bez omezení \n  \n 
URL:https://muz-ic.cz/udalost/bee-team-na-stope/
CATEGORIES:FILM
ATTACH;FMTTYPE=image/jpeg:https://muz-ic.cz/wp-content/uploads/2026/04/bee.jpg
END:VEVENT
BEGIN:VEVENT
DTSTART;TZID=Europe/Prague:20260509T190500
DTEND;TZID=Europe/Prague:20260509T210000
DTSTAMP:20260425T145024
CREATED:20260424T095121Z
LAST-MODIFIED:20260424T095138Z
UID:4729-1778353500-1778360400@muz-ic.cz
SUMMARY:Hokum
DESCRIPTION:Spisovatel hororů navštíví irský hostinec\, aby rozptýlil popel svých rodičů\, aniž by tušil\, že tento objekt je údajně posedlý čarodějnicí. \n Sobota 09. 05. 2026 19:05 (101 min.) Kino Bystřice Vstupné: 150 Kč Horor\, české titulky\, nevhodné do 15 let \n  \n 
URL:https://muz-ic.cz/udalost/hokum/
CATEGORIES:FILM
ATTACH;FMTTYPE=image/jpeg:https://muz-ic.cz/wp-content/uploads/2026/04/HOKUM.jpg
END:VEVENT
BEGIN:VEVENT
DTSTART;TZID=Europe/Prague:20260513T180500
DTEND;TZID=Europe/Prague:20260513T200000
DTSTAMP:20260425T145024
CREATED:20260424T100712Z
LAST-MODIFIED:20260424T102835Z
UID:4731-1778695500-1778702400@muz-ic.cz
SUMMARY:Dom dobry - DOBRE POLSKIE KINO
DESCRIPTION:Hlavní postavou příběhu je Gośka\, která věří\, že konečně potkala svou životní lásku. A zpočátku to tak i vypadá… Grzesiek se chová jako zamilovaný muž. Mluví o společných plánech\, budoucnosti a nakonec v romantických Benátkách požádá svou vyvolenou o ruku. Jenže idylku brzy vystřídá tragédie a Gośka na vlastní kůži zažije jeho násilnickou povahu. Film otevírá téma domácího násilí\, které se skrývá za fasádou „dobrého (slušného)“ domu. \n Středa 13. 05. 2026 19:05 (107 min.) Kino Bystřice Vstupné: 120 Kč Drama\, české titulky\, nevhodné do 15 let \n  \n 
URL:https://muz-ic.cz/udalost/dom-dobry-dobre-polskie-kino/
CATEGORIES:FILM
ATTACH;FMTTYPE=image/jpeg:https://muz-ic.cz/wp-content/uploads/2026/04/dom-dobry.jpg
END:VEVENT
BEGIN:VEVENT
DTSTART;TZID=Europe/Prague:20260516T160500
DTEND;TZID=Europe/Prague:20260516T180000
DTSTAMP:20260425T145024
CREATED:20260424T103842Z
LAST-MODIFIED:20260424T103842Z
UID:4738-1778947500-1778954400@muz-ic.cz
SUMMARY:Farma zvířat
DESCRIPTION:Film Farma zvířat zpracovává klasickou satirickou alegorickou bajku George Orwella\, v níž vizionářsky pozoruje revoluci na zemědělské farmě\, kde se vzbouří zvířata\, vyženou všechny lidi a vedou ji dál sama. Prasata vedená kancem Napoleonem se však chopí moci a sen o rovnosti se změní v nemilosrdnou tyranii. \n Sobota 16. 05. 2026 16:05 (96 min.) Kino Bystřice Vstupné: 150 Kč\, děti 130 Kč Animovaný\, česká verze\, přístupný \n  \n 
URL:https://muz-ic.cz/udalost/farma-zvirat/
CATEGORIES:FILM
ATTACH;FMTTYPE=image/jpeg:https://muz-ic.cz/wp-content/uploads/2026/04/farma.jpg
END:VEVENT
BEGIN:VEVENT
DTSTART;TZID=Europe/Prague:20260516T190500
DTEND;TZID=Europe/Prague:20260516T210000
DTSTAMP:20260425T145024
CREATED:20260424T104242Z
LAST-MODIFIED:20260424T111535Z
UID:4740-1778958300-1778965200@muz-ic.cz
SUMMARY:Zmizení Josefa Mengeleho
DESCRIPTION:Kirill Serebrennikov přináší na plátna kin jedinečný a odvážný pohled na jeden z nejnapínavějších skutečných příběhů minulého století. Sledujeme Josefa Mengeleho – nacistického uprchlíka\, jenž je během let těsně následujících po druhé světové válce\, která tráví v Jižní Americe\, konfrontován se svým synem a duchy minulosti. \n Sobota 16. 05. 2026 19:05 (135 min.) Kino Bystřice Vstupné: 140 Kč Životopisný\, drama\, historický\, české titulky\, nevhodné do 18 let \n 
URL:https://muz-ic.cz/udalost/zmizeni-josefa-mengeleho/
CATEGORIES:FILM
ATTACH;FMTTYPE=image/jpeg:https://muz-ic.cz/wp-content/uploads/2026/04/mengele.jpg
END:VEVENT
BEGIN:VEVENT
DTSTART;TZID=Europe/Prague:20260523T160500
DTEND;TZID=Europe/Prague:20260523T183000
DTSTAMP:20260425T145024
CREATED:20260326T122904Z
LAST-MODIFIED:20260424T112206Z
UID:4453-1779552300-1779561000@muz-ic.cz
SUMMARY:Super Mario galaktický film
DESCRIPTION:Luigi a Mario jsou nejslavnější instalatéři v naší galaxii. Oprávněně. Opraví totiž nejen kapající kohoutek a prasklé vodovodní potrubí\, ale i svět\, který se řítí do záhuby. \n Sobota 23.05. 2026 16:05 (95 min.) Kino Bystřice Vstupné: 130 Kč dospělí\, 110 Kč děti Animovaný\, komedie\, česká verze\, přístupné bez omezení \n  \n 
URL:https://muz-ic.cz/udalost/super-mario-galakticky-film/
CATEGORIES:FILM
ATTACH;FMTTYPE=image/jpeg:https://muz-ic.cz/wp-content/uploads/2026/03/Super-mario.jpg
END:VEVENT
BEGIN:VEVENT
DTSTART;TZID=Europe/Prague:20260523T190500
DTEND;TZID=Europe/Prague:20260523T210000
DTSTAMP:20260425T145024
CREATED:20260424T112630Z
LAST-MODIFIED:20260424T112930Z
UID:4747-1779563100-1779570000@muz-ic.cz
SUMMARY:Mandalorian a Grogu
DESCRIPTION:Zlé Impérium padlo a jeho válečníci zůstávají roztroušeni po celé galaxii. Nově vzniklá Republika se snaží chránit vše\, za co povstalci bojovali\, a proto požádala o pomoc legendárního mandaloriánského lovce odměn Dina Djarina (Pedro Pascal) a jeho mladého učedníka Groga. \n Sobota 23.05. 2026 19:05 (132 min.) Kino Bystřice Vstupné: 160 Kč Sci-fi\, akční\, česká verze\, přístupné bez omezení \n  \n 
URL:https://muz-ic.cz/udalost/mandalorian-a-grogu/
CATEGORIES:FILM
ATTACH;FMTTYPE=image/jpeg:https://muz-ic.cz/wp-content/uploads/2026/04/mandalor.jpg
END:VEVENT
BEGIN:VEVENT
DTSTART;TZID=Europe/Prague:20260529T193500
DTEND;TZID=Europe/Prague:20260529T210000
DTSTAMP:20260425T145024
CREATED:20260424T113344Z
LAST-MODIFIED:20260424T113344Z
UID:4750-1780083300-1780088400@muz-ic.cz
SUMMARY:Slepice
DESCRIPTION:Tam\, kde se narodila\, už rozhodně nic snášet nebude. Vyrazí proto do světa. Jenže život venku není peříčko. Po pár divokých úletech nakonec najde to\, o čem ostatní jejího druhu jen sní. Lásku i nový domov. Netuší však\, že hned vedle jejích čerstvě nakladených vajíček se líhne pašerácké doupě… \n Pátek 29.05. 2026 19:35 (96 min.) Kino Bystřice Vstupné: 140 Kč Drama\, české titulky\, nevhodné do 12 let \n  \n 
URL:https://muz-ic.cz/udalost/slepice/
CATEGORIES:FILM
ATTACH;FMTTYPE=image/jpeg:https://muz-ic.cz/wp-content/uploads/2026/04/SLEPICE.jpg
END:VEVENT
BEGIN:VEVENT
DTSTART;TZID=Europe/Prague:20260630T123100
DTEND;TZID=Europe/Prague:20260731T123100
DTSTAMP:20260425T145024
CREATED:20260325T082257Z
LAST-MODIFIED:20260401T155236Z
UID:4425-1782822660-1785501060@muz-ic.cz
SUMMARY:Program duben-červen
DESCRIPTION:
URL:https://muz-ic.cz/udalost/program-duben-cerven/
CATEGORIES:OSTATNÍ - MUZIC
ATTACH;FMTTYPE=image/png:https://muz-ic.cz/wp-content/uploads/2026/03/Program-duben-cerven.png
END:VEVENT
END:VCALENDAR