BEGIN:VCALENDAR
VERSION:2.0
PRODID:-//Muz-IC - ECPv6.15.20//NONSGML v1.0//EN
CALSCALE:GREGORIAN
METHOD:PUBLISH
X-ORIGINAL-URL:https://muz-ic.cz
X-WR-CALDESC:Akce na Muz-IC
REFRESH-INTERVAL;VALUE=DURATION:PT1H
X-Robots-Tag:noindex
X-PUBLISHED-TTL:PT1H
BEGIN:VTIMEZONE
TZID:Europe/Prague
BEGIN:DAYLIGHT
TZOFFSETFROM:+0100
TZOFFSETTO:+0200
TZNAME:CEST
DTSTART:20250330T010000
END:DAYLIGHT
BEGIN:STANDARD
TZOFFSETFROM:+0200
TZOFFSETTO:+0100
TZNAME:CET
DTSTART:20251026T010000
END:STANDARD
BEGIN:DAYLIGHT
TZOFFSETFROM:+0100
TZOFFSETTO:+0200
TZNAME:CEST
DTSTART:20260329T010000
END:DAYLIGHT
BEGIN:STANDARD
TZOFFSETFROM:+0200
TZOFFSETTO:+0100
TZNAME:CET
DTSTART:20261025T010000
END:STANDARD
BEGIN:DAYLIGHT
TZOFFSETFROM:+0100
TZOFFSETTO:+0200
TZNAME:CEST
DTSTART:20270328T010000
END:DAYLIGHT
BEGIN:STANDARD
TZOFFSETFROM:+0200
TZOFFSETTO:+0100
TZNAME:CET
DTSTART:20271031T010000
END:STANDARD
END:VTIMEZONE
BEGIN:VEVENT
DTSTART;TZID=Europe/Prague:20260430T170500
DTEND;TZID=Europe/Prague:20260430T200000
DTSTAMP:20260425T145154
CREATED:20260422T101729Z
LAST-MODIFIED:20260422T101806Z
UID:4705-1777568700-1777579200@muz-ic.cz
SUMMARY:Stavění máje
DESCRIPTION:Zveme Vás na společné stavění máje s hasiči u DPS – tradiční oslavu jara s živou hudbou a občerstvením od hasičů. \n Čtvrtek 30. 04. 2026 17:05  Areál u DPS Bystřice  Zdarma \n  \n 
URL:https://muz-ic.cz/udalost/staveni-maje/
CATEGORIES:OSTATNÍ - MUZIC
ATTACH;FMTTYPE=image/jpeg:https://muz-ic.cz/wp-content/uploads/2026/04/Staveni-maje.jpg
END:VEVENT
BEGIN:VEVENT
DTSTART;TZID=Europe/Prague:20260630T123100
DTEND;TZID=Europe/Prague:20260731T123100
DTSTAMP:20260425T145154
CREATED:20260325T082257Z
LAST-MODIFIED:20260401T155236Z
UID:4425-1782822660-1785501060@muz-ic.cz
SUMMARY:Program duben-červen
DESCRIPTION:
URL:https://muz-ic.cz/udalost/program-duben-cerven/
CATEGORIES:OSTATNÍ - MUZIC
ATTACH;FMTTYPE=image/png:https://muz-ic.cz/wp-content/uploads/2026/03/Program-duben-cerven.png
END:VEVENT
END:VCALENDAR